BEGIN:VCALENDAR
VERSION:2.0
PRODID:-//BeVe Music and Paintings - ECPv6.15.15//NONSGML v1.0//EN
CALSCALE:GREGORIAN
METHOD:PUBLISH
X-ORIGINAL-URL:https://www.bertversteeg.nl
X-WR-CALDESC:Evenementen voor BeVe Music and Paintings
REFRESH-INTERVAL;VALUE=DURATION:PT1H
X-Robots-Tag:noindex
X-PUBLISHED-TTL:PT1H
BEGIN:VTIMEZONE
TZID:Europe/Amsterdam
BEGIN:DAYLIGHT
TZOFFSETFROM:+0100
TZOFFSETTO:+0200
TZNAME:CEST
DTSTART:20200329T010000
END:DAYLIGHT
BEGIN:STANDARD
TZOFFSETFROM:+0200
TZOFFSETTO:+0100
TZNAME:CET
DTSTART:20201025T010000
END:STANDARD
BEGIN:DAYLIGHT
TZOFFSETFROM:+0100
TZOFFSETTO:+0200
TZNAME:CEST
DTSTART:20210328T010000
END:DAYLIGHT
BEGIN:STANDARD
TZOFFSETFROM:+0200
TZOFFSETTO:+0100
TZNAME:CET
DTSTART:20211031T010000
END:STANDARD
BEGIN:DAYLIGHT
TZOFFSETFROM:+0100
TZOFFSETTO:+0200
TZNAME:CEST
DTSTART:20220327T010000
END:DAYLIGHT
BEGIN:STANDARD
TZOFFSETFROM:+0200
TZOFFSETTO:+0100
TZNAME:CET
DTSTART:20221030T010000
END:STANDARD
BEGIN:DAYLIGHT
TZOFFSETFROM:+0100
TZOFFSETTO:+0200
TZNAME:CEST
DTSTART:20230326T010000
END:DAYLIGHT
BEGIN:STANDARD
TZOFFSETFROM:+0200
TZOFFSETTO:+0100
TZNAME:CET
DTSTART:20231029T010000
END:STANDARD
BEGIN:DAYLIGHT
TZOFFSETFROM:+0100
TZOFFSETTO:+0200
TZNAME:CEST
DTSTART:20240331T010000
END:DAYLIGHT
BEGIN:STANDARD
TZOFFSETFROM:+0200
TZOFFSETTO:+0100
TZNAME:CET
DTSTART:20241027T010000
END:STANDARD
BEGIN:DAYLIGHT
TZOFFSETFROM:+0100
TZOFFSETTO:+0200
TZNAME:CEST
DTSTART:20250330T010000
END:DAYLIGHT
BEGIN:STANDARD
TZOFFSETFROM:+0200
TZOFFSETTO:+0100
TZNAME:CET
DTSTART:20251026T010000
END:STANDARD
BEGIN:DAYLIGHT
TZOFFSETFROM:+0100
TZOFFSETTO:+0200
TZNAME:CEST
DTSTART:20260329T010000
END:DAYLIGHT
BEGIN:STANDARD
TZOFFSETFROM:+0200
TZOFFSETTO:+0100
TZNAME:CET
DTSTART:20261025T010000
END:STANDARD
END:VTIMEZONE
BEGIN:VTIMEZONE
TZID:UTC
BEGIN:STANDARD
TZOFFSETFROM:+0000
TZOFFSETTO:+0000
TZNAME:UTC
DTSTART:19960101T000000
END:STANDARD
END:VTIMEZONE
BEGIN:VEVENT
DTSTART;TZID=Europe/Amsterdam:20250201T100000
DTEND;TZID=Europe/Amsterdam:20250426T170000
DTSTAMP:20260421T041136
CREATED:20230718T175712Z
LAST-MODIFIED:20250202T100808Z
UID:2038-1738404000-1745686800@www.bertversteeg.nl
SUMMARY:Vught\, Ketjapfabriek
DESCRIPTION:Gedurende drie maanden zijn Bert’s werken te zien met als thema: Queen Fairy Aine and the Orbs\, in bedrijvencentrum de Ketjapfabriek\, van Heeswijkstraat 4a in Vught. U bent tijdens kantooruren van harte welkom om een kijkje te nemen.
URL:https://www.bertversteeg.nl/evenement/vught-ketjapfabriek-2/
LOCATION:Ketjapfabriek\, Van Heeswijkstraat 4a\, Vught\, 5262XG
CATEGORIES:Paintings
END:VEVENT
BEGIN:VEVENT
DTSTART;TZID=Europe/Amsterdam:20231028T160000
DTEND;TZID=Europe/Amsterdam:20231028T170000
DTSTAMP:20260421T041136
CREATED:20230511T101818Z
LAST-MODIFIED:20231105T193427Z
UID:2026-1698508800-1698512400@www.bertversteeg.nl
SUMMARY:Lisse\, Sint Agathakerk
DESCRIPTION:Orgelbespeling door Bert Versteeg op het Adema orgel. Met medewerking van harpist Miles.
URL:https://www.bertversteeg.nl/evenement/lisse-sint-agathakerk-9/
LOCATION:Sint Agathakerk\, Heereweg 273\, Lisse\, 2161 BH\, Nederland
CATEGORIES:Music
ATTACH;FMTTYPE=image/jpeg:https://www.bertversteeg.nl/wp-content/uploads/2023/11/IMG-20231028-WA0007.jpg
END:VEVENT
BEGIN:VEVENT
DTSTART;TZID=Europe/Amsterdam:20230527T160000
DTEND;TZID=Europe/Amsterdam:20230527T170000
DTSTAMP:20260421T041136
CREATED:20230511T101127Z
LAST-MODIFIED:20230511T102536Z
UID:2024-1685203200-1685206800@www.bertversteeg.nl
SUMMARY:Lisse\, Sint Agathakerk
DESCRIPTION:Orgelbespeling door Bert Versteeg op het Adema orgel.
URL:https://www.bertversteeg.nl/evenement/lisse-sint-agathakerk-8/
LOCATION:Sint Agathakerk\, Heereweg 273\, Lisse\, 2161 BH\, Nederland
ATTACH;FMTTYPE=image/jpeg:https://www.bertversteeg.nl/wp-content/uploads/2023/05/foto-Cor-de-Vries-700x467-1.jpg
END:VEVENT
BEGIN:VEVENT
DTSTART;TZID=Europe/Amsterdam:20220603T140000
DTEND;TZID=Europe/Amsterdam:20220606T170000
DTSTAMP:20260421T041136
CREATED:20220524T095429Z
LAST-MODIFIED:20220524T095915Z
UID:1910-1654264800-1654534800@www.bertversteeg.nl
SUMMARY:Sint-Michielsgestel\, Protestantse Gemeente
DESCRIPTION:Gedurende vier dagen zijn een aantal van Bert’s werken te zien in het kerkje van Sint-Michielsgestel\, Schijndelseweg 1\, 5271 BK Sint-Michielsgestel. U bent van 14:00uur tot 17:00uur van harte welkom om een kijkje te nemen.
URL:https://www.bertversteeg.nl/evenement/sint-michielsgestel-protestantse-gemeente-2/
LOCATION:PKN Sint-Michielsgestel\, Schijndelseweg 1\, Sint-Michielsgestel\, 5271 BK
ATTACH;FMTTYPE=image/jpeg:https://www.bertversteeg.nl/wp-content/uploads/2020/10/P1000472-scaled.jpg
END:VEVENT
BEGIN:VEVENT
DTSTART;TZID=Europe/Amsterdam:20210910T140000
DTEND;TZID=Europe/Amsterdam:20210912T170000
DTSTAMP:20260421T041136
CREATED:20210826T071230Z
LAST-MODIFIED:20210826T073128Z
UID:1857-1631282400-1631466000@www.bertversteeg.nl
SUMMARY:Sint-Michielsgestel\, Protestantse Gemeente
DESCRIPTION:Gedurende drie dagen zijn een aantal van Bert’s werken te zien in het kerkje van Sint-Michielsgestel\, Schijndelseweg 1\, 5271 BK Sint-Michielsgestel. U bent van 14:00uur tot 17:00uur van harte welkom om een kijkje te nemen.
URL:https://www.bertversteeg.nl/evenement/sint-michielsgestel-protestantse-gemeente/
LOCATION:PKN Sint-Michielsgestel\, Schijndelseweg 1\, Sint-Michielsgestel\, 5271 BK
ATTACH;FMTTYPE=image/jpeg:https://www.bertversteeg.nl/wp-content/uploads/2021/02/Queen-fairy-Aine-and-friend-Caraid-look-at-the-moon-stars-and-orbs-scaled.jpg
END:VEVENT
BEGIN:VEVENT
DTSTART;TZID=Europe/Amsterdam:20210828T160000
DTEND;TZID=Europe/Amsterdam:20210828T170000
DTSTAMP:20260421T041136
CREATED:20210325T130057Z
LAST-MODIFIED:20210325T130057Z
UID:1820-1630166400-1630170000@www.bertversteeg.nl
SUMMARY:Lisse\, Sint Agathakerk
DESCRIPTION:Orgelbespeling door Bert Versteeg op het Adema orgel. \nToegang op voorwaarde Corona maatregelen
URL:https://www.bertversteeg.nl/evenement/lisse-sint-agathakerk-7/
LOCATION:Sint Agathakerk\, Heereweg 273\, Lisse\, 2161 BH\, Nederland
END:VEVENT
BEGIN:VEVENT
DTSTART;TZID=Europe/Amsterdam:20210626T161500
DTEND;TZID=Europe/Amsterdam:20210626T170000
DTSTAMP:20260421T041136
CREATED:20210325T125837Z
LAST-MODIFIED:20210607T133640Z
UID:1817-1624724100-1624726800@www.bertversteeg.nl
SUMMARY:Lisse\, Sint Agathakerk
DESCRIPTION:Orgelbespeling door Bert Versteeg op het Adema orgel met medewerking van harpiste Melissa. \nToegang op voorwaarde Corona maatregelen
URL:https://www.bertversteeg.nl/evenement/lisse-sint-agathakerk-6/
LOCATION:Sint Agathakerk\, Heereweg 273\, Lisse\, 2161 BH\, Nederland
END:VEVENT
BEGIN:VEVENT
DTSTART;VALUE=DATE:20210201
DTEND;VALUE=DATE:20210501
DTSTAMP:20260421T041136
CREATED:20210104T103347Z
LAST-MODIFIED:20211229T131526Z
UID:1750-1612137600-1619827199@www.bertversteeg.nl
SUMMARY:Vught\, Ketjapfabriek
DESCRIPTION:Gedurende drie maanden zijn Bert’s werken te zien in bedrijvencentrum de Ketjapfabriek\, van Heeswijkstraat 4a in Vught. U bent tijdens kantooruren van harte welkom om een kijkje te nemen.
URL:https://www.bertversteeg.nl/evenement/vught-ketjapfabriek/
LOCATION:Ketjapfabriek\, Van Heeswijkstraat 4a\, Vught\, 5262XG
ATTACH;FMTTYPE=image/jpeg:https://www.bertversteeg.nl/wp-content/uploads/2021/12/DSCN1200.jpg
END:VEVENT
BEGIN:VEVENT
DTSTART;TZID=UTC:20200829T150000
DTEND;TZID=UTC:20200829T160000
DTSTAMP:20260421T041136
CREATED:20200421T172038Z
LAST-MODIFIED:20200827T050036Z
UID:1251-1598713200-1598716800@www.bertversteeg.nl
SUMMARY:Lisse\, Sint Agathakerk
DESCRIPTION:Orgelbespeling door Bert Versteeg op het Adema orgel met medewerking van harpiste Melissa. \nToegang op voorwaarde Corona maatregelen
URL:https://www.bertversteeg.nl/evenement/lisse-sint-agathakerk-4/
LOCATION:Sint Agathakerk\, Heereweg 273\, Lisse\, 2161 BH\, Nederland
END:VEVENT
BEGIN:VEVENT
DTSTART;TZID=UTC:20200627T160000
DTEND;TZID=UTC:20200627T170000
DTSTAMP:20260421T041136
CREATED:20200421T171631Z
LAST-MODIFIED:20200616T164302Z
UID:1249-1593273600-1593277200@www.bertversteeg.nl
SUMMARY:Lisse\, Sint Agathakerk
DESCRIPTION:Orgelbespeling door Bert Versteeg op het Adema orgel \nToegang op voorwaarde van Corona maatregelen. \nPubliek mag\, maar een reservering is nodig via mailadres: riesenirene@ziggo.nl
URL:https://www.bertversteeg.nl/evenement/lisse-sint-agathakerk-3/
LOCATION:Sint Agathakerk\, Heereweg 273\, Lisse\, 2161 BH\, Nederland
END:VEVENT
BEGIN:VEVENT
DTSTART;TZID=UTC:20190518T160000
DTEND;TZID=UTC:20190518T170000
DTSTAMP:20260421T041136
CREATED:20190318T151507Z
LAST-MODIFIED:20190706T114235Z
UID:960-1558195200-1558198800@www.bertversteeg.nl
SUMMARY:Lisse\, Sint Agathakerk
DESCRIPTION:Orgelbespeling door Bert Versteeg op het Adema orgel
URL:https://www.bertversteeg.nl/evenement/lisse-sint-agathakerk-2/
LOCATION:Sint Agathakerk\, Heereweg 273\, Lisse\, 2161 BH\, Nederland
END:VEVENT
BEGIN:VEVENT
DTSTART;TZID=UTC:20180908T150000
DTEND;TZID=UTC:20180908T153000
DTSTAMP:20260421T041136
CREATED:20180619T185334Z
LAST-MODIFIED:20180801T045952Z
UID:522-1536418800-1536420600@www.bertversteeg.nl
SUMMARY:Den Haag\, Evangelisch Lutherse kerk
DESCRIPTION:Orgelbespeling door Bert Versteeg op het Bätz-orgel.
URL:https://www.bertversteeg.nl/evenement/den-haag-evangelisch-lutherse-kerk-2/
LOCATION:Evangelisch Lutherse kerk\, Lutherse Burgwal 7-9\, Den Haag\, 2512 CB\, Nederland
END:VEVENT
BEGIN:VEVENT
DTSTART;TZID=UTC:20180616T143000
DTEND;TZID=UTC:20180616T150000
DTSTAMP:20260421T041136
CREATED:20180430T143307Z
LAST-MODIFIED:20180801T072926Z
UID:462-1529159400-1529161200@www.bertversteeg.nl
SUMMARY:Wateringen\, Hervormde Kerk
DESCRIPTION:Orgelbespeling door Bert Versteeg op het Bätz -Witte orgel
URL:https://www.bertversteeg.nl/evenement/wateringen-hervormde-kerk/
LOCATION:Hervormde Kerk (Pleinkerk)\, Plein 9\, Wateringen\, 2291 CA\, Nederland
END:VEVENT
BEGIN:VEVENT
DTSTART;TZID=UTC:20171028T163000
DTEND;TZID=UTC:20171028T170000
DTSTAMP:20260421T041136
CREATED:20170824T183916Z
LAST-MODIFIED:20180801T072914Z
UID:339-1509208200-1509210000@www.bertversteeg.nl
SUMMARY:Lisse\, Sint Agathakerk
DESCRIPTION:Orgelbespeling door Bert Versteeg op het Adema orgel
URL:https://www.bertversteeg.nl/evenement/lisse-sint-agathakerk/
LOCATION:Sint Agathakerk\, Heereweg 273\, Lisse\, 2161 BH\, Nederland
END:VEVENT
BEGIN:VEVENT
DTSTART;TZID=UTC:20160611T143000
DTEND;TZID=UTC:20160611T150000
DTSTAMP:20260421T041136
CREATED:20170612T174142Z
LAST-MODIFIED:20180801T072859Z
UID:267-1465655400-1465657200@www.bertversteeg.nl
SUMMARY:Purmerend\, Nicolaaskerk
DESCRIPTION:Orgelbespeling door Bert Versteeg op het Garrels-orgel
URL:https://www.bertversteeg.nl/evenement/purmerend-nicolaaskerk/
LOCATION:Nicolaaskerk\, Kaasmarkt 15\, Purmerend\, 1441 BG\, Nederland
END:VEVENT
BEGIN:VEVENT
DTSTART;TZID=UTC:20150314T143000
DTEND;TZID=UTC:20150314T150000
DTSTAMP:20260421T041136
CREATED:20170612T174015Z
LAST-MODIFIED:20180801T072846Z
UID:265-1426343400-1426345200@www.bertversteeg.nl
SUMMARY:‘s-Hertogenbosch\, Kathedrale Basiliek van Sint-Jan Evangelist
DESCRIPTION:Orgelbespeling door Bert Versteeg op het Groot Orgel.
URL:https://www.bertversteeg.nl/evenement/s-hertogenbosch-kathedrale-basiliek-van-sint-jan-evangelist-2/
LOCATION:Kathedrale Basiliek van Sint-Jan Evangelist\, Torenstraat 16\, ‘s-Hertogenbosch\, 5211 KK\, Nederland
END:VEVENT
BEGIN:VEVENT
DTSTART;TZID=UTC:20140913T153000
DTEND;TZID=UTC:20140913T160000
DTSTAMP:20260421T041136
CREATED:20170612T173839Z
LAST-MODIFIED:20180801T072835Z
UID:263-1410622200-1410624000@www.bertversteeg.nl
SUMMARY:Den Haag\, Evangelisch Lutherse kerk
DESCRIPTION:Orgelbespeling door Bert Versteeg op het Bätz-orgel.
URL:https://www.bertversteeg.nl/evenement/den-haag-evangelisch-lutherse-kerk/
LOCATION:Evangelisch Lutherse kerk\, Lutherse Burgwal 7-9\, Den Haag\, 2512 CB\, Nederland
END:VEVENT
BEGIN:VEVENT
DTSTART;TZID=UTC:20130914T110000
DTEND;TZID=UTC:20130914T120000
DTSTAMP:20260421T041136
CREATED:20170612T173503Z
LAST-MODIFIED:20180801T072821Z
UID:261-1379156400-1379160000@www.bertversteeg.nl
SUMMARY:Dordrecht\, Wilhelminakerk
DESCRIPTION:Orgelbespeling door Bert Versteeg op het Bakker en Timmenga-orgel
URL:https://www.bertversteeg.nl/evenement/dordrecht-wilhelminakerk/
LOCATION:Wilhelminakerk\, Blekersdijk 41\, Dordrecht\, 3311 LD\, Nederland
END:VEVENT
BEGIN:VEVENT
DTSTART;TZID=UTC:20120414T150000
DTEND;TZID=UTC:20120414T153000
DTSTAMP:20260421T041136
CREATED:20170612T173221Z
LAST-MODIFIED:20180801T072811Z
UID:259-1334415600-1334417400@www.bertversteeg.nl
SUMMARY:Asperen\, Sint Catharijnekerk
DESCRIPTION:Orgelbespeling door Bert Versteeg op het Witte-orgel
URL:https://www.bertversteeg.nl/evenement/asperen-sint-catharijnekerk/
LOCATION:Sint Catharijnekerk\, Voorstraat 2\, Asperen\, 4147 CC\, Nederland
END:VEVENT
BEGIN:VEVENT
DTSTART;TZID=UTC:20100610T150000
DTEND;TZID=UTC:20100610T160000
DTSTAMP:20260421T041136
CREATED:20170612T074447Z
LAST-MODIFIED:20190724T184232Z
UID:255-1276182000-1276185600@www.bertversteeg.nl
SUMMARY:Den Hoorn (Texel)\, PKN kerk
DESCRIPTION:Orgelbespeling door Bert Versteeg op het J.C. Scheuer-orgel\, Middagje Samen Zingen
URL:https://www.bertversteeg.nl/evenement/den-hoorn-texel-pkn-kerk/
LOCATION:PKN kerk\, Kerkstraat 5\, Den Hoorn\, (Texel)\, 1797 AD\, Nederland
END:VEVENT
BEGIN:VEVENT
DTSTART;TZID=UTC:19970826T123000
DTEND;TZID=UTC:19970826T130000
DTSTAMP:20260421T041136
CREATED:20170609T184054Z
LAST-MODIFIED:20190724T184731Z
UID:242-872598600-872600400@www.bertversteeg.nl
SUMMARY:‘s-Hertogenbosch\, Kathedrale Basiliek van Sint-Jan Evangelist
DESCRIPTION:Orgelbespeling door Bert Versteeg op het Groot Orgel.
URL:https://www.bertversteeg.nl/evenement/s-hertogenbosch-kathedrale-basiliek-van-sint-jan-evangelist/
LOCATION:Kathedrale Basiliek van Sint-Jan Evangelist\, Torenstraat 16\, ‘s-Hertogenbosch\, 5211 KK\, Nederland
END:VEVENT
END:VCALENDAR